BEGIN:VCALENDAR
VERSION:2.0
PRODID:-//Anne &amp; Co - ECPv6.11.2.1//NONSGML v1.0//EN
CALSCALE:GREGORIAN
METHOD:PUBLISH
X-WR-CALNAME:Anne &amp; Co
X-ORIGINAL-URL:https://www.anne-co.nl
X-WR-CALDESC:Evenementen voor Anne &amp; Co
REFRESH-INTERVAL;VALUE=DURATION:PT1H
X-Robots-Tag:noindex
X-PUBLISHED-TTL:PT1H
BEGIN:VTIMEZONE
TZID:Europe/Amsterdam
BEGIN:DAYLIGHT
TZOFFSETFROM:+0100
TZOFFSETTO:+0200
TZNAME:CEST
DTSTART:20240331T010000
END:DAYLIGHT
BEGIN:STANDARD
TZOFFSETFROM:+0200
TZOFFSETTO:+0100
TZNAME:CET
DTSTART:20241027T010000
END:STANDARD
END:VTIMEZONE
BEGIN:VEVENT
DTSTART;TZID=Europe/Amsterdam:20241213T160000
DTEND;TZID=Europe/Amsterdam:20241213T200000
DTSTAMP:20260421T104245
CREATED:20241207T194826Z
LAST-MODIFIED:20241207T194936Z
UID:1722-1734105600-1734120000@www.anne-co.nl
SUMMARY:Kerstmarkt 2024
DESCRIPTION:
URL:https://www.anne-co.nl/evenement/kerstmarkt-2024/
LOCATION:Dorpsplein\, Ilpendam\, Dorpsplein\, Ilpendam\, Netherlands
END:VEVENT
BEGIN:VEVENT
DTSTART;TZID=Europe/Amsterdam:20241213T190000
DTEND;TZID=Europe/Amsterdam:20241213T193000
DTSTAMP:20260421T104245
CREATED:20241207T195441Z
LAST-MODIFIED:20241207T195714Z
UID:1725-1734116400-1734118200@www.anne-co.nl
SUMMARY:Kerstloterij Anne & Co
DESCRIPTION:Ook dit jaar is er weer een kerstloterij. Kaarten zijn in de winkel te koop (€2\,50 per lot en €20 voor 5 loten). De trekking vindt plaats op vrijdag 13 december om 19u tijdens de kerstmarkt.
URL:https://www.anne-co.nl/evenement/kerstloterij-anne-co/
LOCATION:Gonne donkerplein\, Gonne donkerplein\, Ilpendam\, 1452\, Netherlands
ORGANIZER;CN="Anne & Co":MAILTO:winkel@anne-co.nl
END:VEVENT
BEGIN:VEVENT
DTSTART;TZID=Europe/Amsterdam:20241215T100000
DTEND;TZID=Europe/Amsterdam:20241215T120000
DTSTAMP:20260421T104245
CREATED:20240211T200155Z
LAST-MODIFIED:20240914T065805Z
UID:1581-1734256800-1734264000@www.anne-co.nl
SUMMARY:Oecumenische viering (Hervormde kerk)
DESCRIPTION:In verband met privé omstandigheden is dit evenement verplaatst naar 15 december
URL:https://www.anne-co.nl/evenement/oecumenische-viering-hervormde-kerk/
LOCATION:Hervormde kerk Ilpendam\, Kerkstraat 19\, Ilpendam\, Noord-Holland\, 1452 PR\, Netherlands
ORGANIZER;CN="Hervormde kerk Ilpendam":MAILTO:scriba.ilpendam@kerkiw.nl
END:VEVENT
BEGIN:VEVENT
DTSTART;TZID=Europe/Amsterdam:20241215T193000
DTEND;TZID=Europe/Amsterdam:20241215T210000
DTSTAMP:20260421T104245
CREATED:20240211T200531Z
LAST-MODIFIED:20240211T200533Z
UID:1587-1734291000-1734296400@www.anne-co.nl
SUMMARY:Kerstsamenzang (St. Sebastianuskerk)
DESCRIPTION:
URL:https://www.anne-co.nl/evenement/kerstsamenzang-st-sebastianuskerk/
LOCATION:St. Sebastianuskerk\, Dorpsstraat 58\, Ilpendam\, 1452 PH\, Netherlands
ORGANIZER;CN="St. Sebastianuskerk":MAILTO:hhsebastianus@hotmail.com
END:VEVENT
BEGIN:VEVENT
DTSTART;TZID=Europe/Amsterdam:20241226T200000
DTEND;TZID=Europe/Amsterdam:20241226T220000
DTSTAMP:20260421T104245
CREATED:20240211T200647Z
LAST-MODIFIED:20240211T200651Z
UID:1589-1735243200-1735250400@www.anne-co.nl
SUMMARY:Concert met diverse artiesten (St. Sebastianuskerk)
DESCRIPTION:Voorverkoop (startdatum volgt):  Anne & Co. of zaterdags (11.00 – 12.30 uur) in de kerk of (zolang de voorraad strekt) voorafgaand aan het concert.
URL:https://www.anne-co.nl/evenement/concert-met-diverse-artiesten-st-sebastianuskerk/
LOCATION:St. Sebastianuskerk\, Dorpsstraat 58\, Ilpendam\, 1452 PH\, Netherlands
ORGANIZER;CN="St. Sebastianuskerk":MAILTO:hhsebastianus@hotmail.com
END:VEVENT
END:VCALENDAR