BEGIN:VCALENDAR
VERSION:2.0
PRODID:-//Anne &amp; Co - ECPv6.11.2.1//NONSGML v1.0//EN
CALSCALE:GREGORIAN
METHOD:PUBLISH
X-ORIGINAL-URL:https://www.anne-co.nl
X-WR-CALDESC:Evenementen voor Anne &amp; Co
REFRESH-INTERVAL;VALUE=DURATION:PT1H
X-Robots-Tag:noindex
X-PUBLISHED-TTL:PT1H
BEGIN:VTIMEZONE
TZID:Europe/Amsterdam
BEGIN:DAYLIGHT
TZOFFSETFROM:+0100
TZOFFSETTO:+0200
TZNAME:CEST
DTSTART:20230326T010000
END:DAYLIGHT
BEGIN:STANDARD
TZOFFSETFROM:+0200
TZOFFSETTO:+0100
TZNAME:CET
DTSTART:20231029T010000
END:STANDARD
END:VTIMEZONE
BEGIN:VEVENT
DTSTART;TZID=Europe/Amsterdam:20230827T140000
DTEND;TZID=Europe/Amsterdam:20230827T220000
DTSTAMP:20260422T120311
CREATED:20221014T190451Z
LAST-MODIFIED:20221109T192740Z
UID:163-1693144800-1693173600@www.anne-co.nl
SUMMARY:Parckpop
DESCRIPTION:Parckpop is al vele jaren een begrip in Waterland en ver daarbuiten. Het gratis festival in het Burgemeester van Oorschotplantsoen trekt jaarlijks duizenden unieke bezoekers die genieten van non-stop livemuziek\, een lekker hapje/drankje en vooral de gezelligheid. Parckpop – altijd op de laatste zondag van de bouwvak – is voor (muziek)liefhebbers ieder jaar weer vaste prik.
URL:https://www.anne-co.nl/evenement/parckpop/
LOCATION:Burgemeester van Oorschotplantsoen\, Ilpendam\, Burgemeester van Oorschotplantsoen\, Ilpendam\, Netherlands
END:VEVENT
BEGIN:VEVENT
DTSTART;TZID=Europe/Amsterdam:20230828T100000
DTEND;TZID=Europe/Amsterdam:20230902T170000
DTSTAMP:20260422T120311
CREATED:20221110T184101Z
LAST-MODIFIED:20221110T184102Z
UID:609-1693216800-1693674000@www.anne-co.nl
SUMMARY:Sport- en spelweek 2023
DESCRIPTION:Meer informatie volgt
URL:https://www.anne-co.nl/evenement/sport-en-spelweek-2023/
LOCATION:Ilpendam\, Ilpendam
END:VEVENT
END:VCALENDAR